BEGIN:VCALENDAR
VERSION:2.0
BEGIN:VEVENT
DTSTAMP:20210423T191000
STATUS:CONFIRMED
UID:1560363617addtocalendar
DTSTART:20210423T191000
DTEND:20210423T220000
SUMMARY:Washington Nationals vs. New York Mets
DESCRIPTION:Baseball season is underway! While most ballparks are limiting their capacities for spectators, the Press Club is the next best place to watch the game with friends and colleagues.Fifty fans will have the opportunity to watch the Washington Nationals play the New York Mets on Friday, April 23. The pregame will be projected on the big screen in our ballroom beginning at 6 p.m. followed by the first pitch at 7:10 p.m. No more than 50 guests will be allowed in the ballroom and each person will have their own space to ensure enough physical distance to enjoy the game safely. Masks must be worn except when eating or drinking.Tickets are $30 and members and $40 for guests. Members are allowed to purchase up to 3 additional tickets for guests. Tickets include:(2) Beers -- No drinks served after the 7th inningHot dogsBox of Cracker JacksAttendees are welcome to order takeout from our online store.The Club is committed to providing an enjoyable and safe environment for guests. Temperature checks and screening questions upon entry, social distancing and mask-wearing will be enforced.
LOCATION:The National Press Club |
BEGIN:VALARM
TRIGGER:-PT15M
ACTION:DISPLAY
END:VALARM
TRANSP:OPAQUE
END:VEVENT
END:VCALENDAR